BEGIN:VCALENDAR
VERSION:2.0
PRODID:-//Lupton House Devon - ECPv6.15.20//NONSGML v1.0//EN
CALSCALE:GREGORIAN
METHOD:PUBLISH
X-ORIGINAL-URL:https://discoverlupton.com
X-WR-CALDESC:Events for Lupton House Devon
REFRESH-INTERVAL;VALUE=DURATION:PT1H
X-Robots-Tag:noindex
X-PUBLISHED-TTL:PT1H
BEGIN:VTIMEZONE
TZID:Europe/London
BEGIN:DAYLIGHT
TZOFFSETFROM:+0000
TZOFFSETTO:+0100
TZNAME:BST
DTSTART:20250330T010000
END:DAYLIGHT
BEGIN:STANDARD
TZOFFSETFROM:+0100
TZOFFSETTO:+0000
TZNAME:GMT
DTSTART:20251026T010000
END:STANDARD
BEGIN:DAYLIGHT
TZOFFSETFROM:+0000
TZOFFSETTO:+0100
TZNAME:BST
DTSTART:20260329T010000
END:DAYLIGHT
BEGIN:STANDARD
TZOFFSETFROM:+0100
TZOFFSETTO:+0000
TZNAME:GMT
DTSTART:20261025T010000
END:STANDARD
BEGIN:DAYLIGHT
TZOFFSETFROM:+0000
TZOFFSETTO:+0100
TZNAME:BST
DTSTART:20270328T010000
END:DAYLIGHT
BEGIN:STANDARD
TZOFFSETFROM:+0100
TZOFFSETTO:+0000
TZNAME:GMT
DTSTART:20271031T010000
END:STANDARD
END:VTIMEZONE
BEGIN:VEVENT
DTSTART;TZID=Europe/London:20260320T180000
DTEND;TZID=Europe/London:20260320T210000
DTSTAMP:20260424T163655
CREATED:20260121T123112Z
LAST-MODIFIED:20260121T123149Z
UID:3296-1774029600-1774040400@discoverlupton.com
SUMMARY:Spring Equinox Celebration with Gemma Gardner
DESCRIPTION:Spring Equinox Celebration with Gemma GardnerFriday 20th March 2026 | 6.00–9.00pmLupton House \nJoin Gemma for an intimate Spring Equinox gathering\, marking the turning of the year as light and dark come back into balance. \nAn evening to soften\, open\, and align with what wants to grow—within you and around you. Through gentle seasonal ritual\, reflection\, and embodied practices\, we’ll create space to release the old and consciously welcome new intentions for the months ahead. \nHeld in the beautiful setting of Lupton House\, this is an invitation to slow down\, reconnect with yourself\, and honour the quiet power of emergence. \nCost: £48Time: 6pm–9pm \nPlaces are limited—early booking recommended. \nTo book please visit:     https://SignatureSoundTherapies.as.me/Spring
URL:https://discoverlupton.com/event/spring-equinox-celebration-with-gemma-gardener/
LOCATION:Lupton House\, Brixham Road\, Churston Ferrers\, TQ5 0LD
ATTACH;FMTTYPE=image/jpeg:https://discoverlupton.com/wp-content/uploads/2026/01/Spring-Equinox-Celebration-Gemma-20.03.2026.jpg
END:VEVENT
BEGIN:VEVENT
DTSTART;TZID=Europe/London:20260328T100000
DTEND;TZID=Europe/London:20260328T170000
DTSTAMP:20260424T163655
CREATED:20260108T145903Z
LAST-MODIFIED:20260108T145903Z
UID:3281-1774692000-1774717200@discoverlupton.com
SUMMARY:Vintage Fair at Lupton House
DESCRIPTION:🎉 Vintage Fair at Lupton House – Saturday 28th March 2026 🎉 \nStep back in time and immerse yourself in the charm of yesteryear at the Vintage Fair at Lupton House\, a day of retro delights you won’t want to miss! \n🕰️ Date: Saturday 28th March 2026📍 Location: Lupton House\, Churston Ferrers\, Brixham\, TQ5 0LD \n💫 What’s in store for you? \n✨ Vintage Stalls: Discover a treasure trove of classic clothing\, antique jewellery\, retro homewares\, and much more! Whether you’re a collector\, a lover of all things vintage\, or simply looking for that perfect statement piece\, there’s something for everyone. \n🕺 Afternoon Tea Dance: Put on your dancing shoes for a delightful afternoon tea dance! Savour a delicious cream tea whilst enjoying the graceful steps of the dance floor\, with live music from Miss Em Vintage. Bookable via the Lupton office** \n💃 Evening Swing Dance: The day doesn’t end there – join us for an evening of energetic swing dancing! Whether you’re an experienced dancer or a beginner\, it’s a fun way to enjoy the lively spirit of the era with live music from Just Misbehavin’.  Bookable via the Lupton office** \n🎟️ Entry fee: £2 cash entry per person for the day. \n📅 Save the Date: Saturday 28th March 2026 – a day to celebrate all things vintage at the stunning Lupton House. Mark your calendars\, and we’ll see you there! \n** Bookings and prices of the afternoon tea dance and evening swing dance are taken by emailing: leanne@discoverlupton.com
URL:https://discoverlupton.com/event/vintage-fair-at-lupton-house/
LOCATION:Lupton House\, Brixham Road\, Churston Ferrers\, TQ5 0LD
ATTACH;FMTTYPE=image/jpeg:https://discoverlupton.com/wp-content/uploads/2026/01/Vintage-Extravaganza-flyer-2026.jpg
END:VEVENT
BEGIN:VEVENT
DTSTART;TZID=Europe/London:20260328T140000
DTEND;TZID=Europe/London:20260328T160000
DTSTAMP:20260424T163655
CREATED:20260108T151506Z
LAST-MODIFIED:20260108T151506Z
UID:3284-1774706400-1774713600@discoverlupton.com
SUMMARY:Vintage Afternoon Tea Dance at Lupton House
DESCRIPTION:✨ Vintage Afternoon Tea Dance at Lupton House ✨Saturday 28th March 2026 | 2:00pm – 4:00pm£16 per ticket – includes a delicious Cream Tea and live music from Miss Em Vintage 🎶 \nStep into the glamour of the past at our Vintage Afternoon Tea Dance at the stunning Lupton House! Enjoy a delightful afternoon of elegant music\, delicious treats\, and vintage charm. \n🍰 What’s Included? \n\n\nCream Tea: Freshly brewed tea\, scones with clotted cream & jam\, plus a selection of cakes and finger sandwiches. \n\n\nLive Music: Let Miss Em Vintage serenade you with beautiful\, live music from the golden age of swing\, jazz\, and classic hits. \n\n\nDancing: Swing\, twirl\, and waltz on the dance floor or simply sit back and enjoy the vibe of an afternoon steeped in retro elegance. \n\n\n💃 Whether you’re a seasoned dancer or new to the steps\, everyone is welcome to join in the fun or just relax and soak up the atmosphere. \n📅 Date: Saturday 28th March 2026🕑 Time: 2:00pm – 4:00pm🎟️ Price: £16 per ticket📍 Location: Lupton House\, Churston Ferrers\, Brixham\, TQ5 0LD \n🎟️ Book your spot today – this event is sure to sell out fast. For tickets please email: leanne@discoverlupton.com \nJoin us for an unforgettable afternoon of vintage elegance\, good company\, and great music. Don’t miss out – grab your tickets now and let’s dance the afternoon away! 💃🎶✨
URL:https://discoverlupton.com/event/vintage-afternoon-tea-dance-at-lupton-house/
LOCATION:Lupton House\, Brixham Road\, Churston Ferrers\, TQ5 0LD
ATTACH;FMTTYPE=image/png:https://discoverlupton.com/wp-content/uploads/2026/01/Tea-Dance-poster-2026.png
END:VEVENT
BEGIN:VEVENT
DTSTART;TZID=Europe/London:20260328T190000
DTEND;TZID=Europe/London:20260328T230000
DTSTAMP:20260424T163655
CREATED:20260109T111609Z
LAST-MODIFIED:20260109T133237Z
UID:3287-1774724400-1774738800@discoverlupton.com
SUMMARY:Evening Swing Dance at Lupton House
DESCRIPTION:🎶 Swing into Spring at Lupton House! 🎶 \n🗓 Date: Saturday\, March 28th\, 2026🕖 Time: 7.30pm  – 11pm📍 Location: Lupton House\, Churston Ferrers\, TQ5 0LH \nGet ready for an unforgettable evening of live swing music and dance at the stunning Lupton House! The talented Just Misbehavin’ band will have you tapping your feet and twirling across the floor with their incredible swing tunes\, bringing the best of classic jazz\, big band\, and swing era hits. Whether you’re a seasoned dancer or a complete beginner\, this is the perfect night to let loose\, enjoy some great music\, and connect with fellow dance lovers. \n✨ Why you can’t miss this event: \n\n\nLive music from the fantastic Just Misbehavin’ 🎤🎷 \n\n\nA spacious\, beautiful venue with plenty of room to dance 💃🕺 \n\n\nA friendly and welcoming crowd of fellow swing enthusiasts! \n\n\nBar available to keep you fueled for a night of fun 🍸🍹 \n\n\nDon’t miss your chance to swing the night away in style! \nGet your tickets now by emailing:  leanne@discoverlupton.com \nTicket price £18 and FREE admission to the Vintage Extravaganza in the daytime
URL:https://discoverlupton.com/event/evening-swing-dance-at-lupton-house/
LOCATION:Lupton House\, Brixham Road\, Churston Ferrers\, TQ5 0LD
ATTACH;FMTTYPE=image/png:https://discoverlupton.com/wp-content/uploads/2026/01/Vintage-EXtravaganza-Eveing-Swing-DAnce-A5-2026.png
END:VEVENT
END:VCALENDAR