BEGIN:VCALENDAR
VERSION:2.0
PRODID:-//Lupton House Devon - ECPv6.15.20//NONSGML v1.0//EN
CALSCALE:GREGORIAN
METHOD:PUBLISH
X-ORIGINAL-URL:https://discoverlupton.com
X-WR-CALDESC:Events for Lupton House Devon
REFRESH-INTERVAL;VALUE=DURATION:PT1H
X-Robots-Tag:noindex
X-PUBLISHED-TTL:PT1H
BEGIN:VTIMEZONE
TZID:Europe/London
BEGIN:DAYLIGHT
TZOFFSETFROM:+0000
TZOFFSETTO:+0100
TZNAME:BST
DTSTART:20250330T010000
END:DAYLIGHT
BEGIN:STANDARD
TZOFFSETFROM:+0100
TZOFFSETTO:+0000
TZNAME:GMT
DTSTART:20251026T010000
END:STANDARD
BEGIN:DAYLIGHT
TZOFFSETFROM:+0000
TZOFFSETTO:+0100
TZNAME:BST
DTSTART:20260329T010000
END:DAYLIGHT
BEGIN:STANDARD
TZOFFSETFROM:+0100
TZOFFSETTO:+0000
TZNAME:GMT
DTSTART:20261025T010000
END:STANDARD
BEGIN:DAYLIGHT
TZOFFSETFROM:+0000
TZOFFSETTO:+0100
TZNAME:BST
DTSTART:20270328T010000
END:DAYLIGHT
BEGIN:STANDARD
TZOFFSETFROM:+0100
TZOFFSETTO:+0000
TZNAME:GMT
DTSTART:20271031T010000
END:STANDARD
END:VTIMEZONE
BEGIN:VEVENT
DTSTART;TZID=Europe/London:20260216T134546
DTEND;TZID=Europe/London:20260216T134546
DTSTAMP:20260424T180512
CREATED:20260216T134546Z
LAST-MODIFIED:20260216T134546Z
UID:3327-1771249546-1771249546@discoverlupton.com
SUMMARY:Submerge Sound Therapy Practitioner Diploma
DESCRIPTION:Are you ready to integrate sound therapy into your own practice and offer transformational experiences for your clients?\nWhether you’re starting out or already working with clients\, the Submerge Diploma equips you with the skills\, confidence\, and knowledge to provide professional\, trauma-informed sound therapy sessions. \nAbout the Submerge Training Diploma \nThe Submerge Diploma is an accredited\, in-depth programme that blends theory\, practical skills\, and case study experience so you can confidently apply sound therapy in your practice. \nWith the 5-Star Seal of Excellence from IICT\, this programme prepares you to: \n\nDeliver trauma-informed sound therapy sessions\nExpand your professional offerings\nConfidently integrate sound therapy into your existing practice\n\nThis immersive training combines foundational and advanced techniques with real-world application\, ensuring you’re ready to make a difference for your clients. \nFor more information or to book please contact Gemma at www.signaturesoundtherapies.co.uk
URL:https://discoverlupton.com/event/submerge-sound-therapy-practitioner-diploma/
ATTACH;FMTTYPE=image/jpeg:https://discoverlupton.com/wp-content/uploads/2026/02/Gemma-Gardner-Sound-Therapy-training.jpg
END:VEVENT
END:VCALENDAR