BEGIN:VCALENDAR
VERSION:2.0
PRODID:-//Lupton House Devon - ECPv6.15.20//NONSGML v1.0//EN
CALSCALE:GREGORIAN
METHOD:PUBLISH
X-ORIGINAL-URL:https://discoverlupton.com
X-WR-CALDESC:Events for Lupton House Devon
REFRESH-INTERVAL;VALUE=DURATION:PT1H
X-Robots-Tag:noindex
X-PUBLISHED-TTL:PT1H
BEGIN:VTIMEZONE
TZID:Europe/London
BEGIN:DAYLIGHT
TZOFFSETFROM:+0000
TZOFFSETTO:+0100
TZNAME:BST
DTSTART:20230326T010000
END:DAYLIGHT
BEGIN:STANDARD
TZOFFSETFROM:+0100
TZOFFSETTO:+0000
TZNAME:GMT
DTSTART:20231029T010000
END:STANDARD
BEGIN:DAYLIGHT
TZOFFSETFROM:+0000
TZOFFSETTO:+0100
TZNAME:BST
DTSTART:20240331T010000
END:DAYLIGHT
BEGIN:STANDARD
TZOFFSETFROM:+0100
TZOFFSETTO:+0000
TZNAME:GMT
DTSTART:20241027T010000
END:STANDARD
BEGIN:DAYLIGHT
TZOFFSETFROM:+0000
TZOFFSETTO:+0100
TZNAME:BST
DTSTART:20250330T010000
END:DAYLIGHT
BEGIN:STANDARD
TZOFFSETFROM:+0100
TZOFFSETTO:+0000
TZNAME:GMT
DTSTART:20251026T010000
END:STANDARD
END:VTIMEZONE
BEGIN:VEVENT
DTSTART;TZID=Europe/London:20241214T190000
DTEND;TZID=Europe/London:20241214T210000
DTSTAMP:20260424T182713
CREATED:20241022T113449Z
LAST-MODIFIED:20241022T113449Z
UID:2762-1734202800-1734210000@discoverlupton.com
SUMMARY:An evening of Christmas song and Carols with Tim Pitman
DESCRIPTION:Join us for a wonderful weekend of Christmas songs and carols with International Classical Tenor Tim Pitman. \nTaking place in the Ballroom at Lupton House\, tickets are £27.50 each which includes a mince pie and mulled wine. \nDates not to be missed are:  Saturday 14th December and Sunday 15th December both from 7pm – 9pm \nFree parking onsite\, booking is essential as there are limited tickets available.
URL:https://discoverlupton.com/event/an-evening-of-christmas-song-and-carols-with-tim-pitman/
LOCATION:Lupton House\, Brixham Road\, Churston Ferrers\, TQ5 0LD
ATTACH;FMTTYPE=image/png:https://discoverlupton.com/wp-content/uploads/2024/10/Tim-Pitman-.pdf.png
END:VEVENT
BEGIN:VEVENT
DTSTART;TZID=Europe/London:20241211T130000
DTEND;TZID=Europe/London:20241212T150000
DTSTAMP:20260424T182713
CREATED:20240910T120956Z
LAST-MODIFIED:20240910T120956Z
UID:2699-1733922000-1734015600@discoverlupton.com
SUMMARY:Christmas Workshop
DESCRIPTION:Join us for a few festive days of Christmas wreath making and table decorations \nChristmas wreath making on Wednesday 11th December  @ 1pm  – £30 per person \nChristmas table decoration making on Thursday 12th December @ 1pm – £35 per person \nWorkshops both include coffee and mince pies \nContact Lupton House to reserve a place on 01803 845800 or email janet@discoverlupton.com
URL:https://discoverlupton.com/event/christmas-workshop/
LOCATION:Lupton House\, Brixham Road\, Churston Ferrers\, TQ5 0LD
ATTACH;FMTTYPE=application/pdf:https://discoverlupton.com/wp-content/uploads/2024/09/Christmas-workshops.pdf
END:VEVENT
BEGIN:VEVENT
DTSTART;TZID=Europe/London:20241208T183000
DTEND;TZID=Europe/London:20241208T210000
DTSTAMP:20260424T182713
CREATED:20241108T160913Z
LAST-MODIFIED:20241120T124022Z
UID:2776-1733682600-1733691600@discoverlupton.com
SUMMARY:An Evening with Jane Osborne - UK's leading past life regressionist
DESCRIPTION:Join us for an evening with the UK’s leading past life regressionist Jane Osborne \nTap into your soul and inner being\, this includes a journey to one happy day in a past life. \nSaturday 8th December at Lupton House from 6.30pm – 9pm \nPrice is £20 per person  and bookings can be taken via the Lupton office on 01803 845800 or email:  janet@discoverlupton.com \nYour soul is waiting for you to say hello!
URL:https://discoverlupton.com/event/an-evening-with-jane-osborne-uks-leading-past-life-regressionist/
LOCATION:Lupton House\, Brixham Road\, Churston Ferrers\, TQ5 0LD
ATTACH;FMTTYPE=image/jpeg:https://discoverlupton.com/wp-content/uploads/2024/11/Jane-Osborne-1.jpeg
END:VEVENT
BEGIN:VEVENT
DTSTART;TZID=Europe/London:20241207T080000
DTEND;TZID=Europe/London:20241207T170000
DTSTAMP:20260424T182713
CREATED:20240910T131037Z
LAST-MODIFIED:20240910T131233Z
UID:2703-1733558400-1733590800@discoverlupton.com
SUMMARY:Bibbidi Bobbidi Boo Christmas Grotto
DESCRIPTION:We are delighted to host Bibbidi Boobidi Boo Christmas Grotto at Lupton House this year. This is a perfect way to kickstart Christmas with a visit to Father Christmas\, Mrs Claus and their magical elves. \nJoin in with activities such as making reindeer food\, decorating Christmas biscuits\, yummy hot chocolate pots plus there’ll be singing and dancing so bring your singing voices and dancing feet! Meet Father Christmas and take those special photos and receive a gift. \nSessions are time staggered throughout the weekends on: 7th\, 8th\, 14th\, 15th\, 21st\, 22nd and Monday 23rd December . Please arrive 5 minutes before your booked time. \nTickets are purchased via Eventbrite only – please don’t ask us to book as this is organised directly by Bibbidi Bobbidi Boo – visit their facebook page for pictures and details: https://www.facebook.com/bibbidi.bobbidi.boo.parties
URL:https://discoverlupton.com/event/bibbidi-bobbidi-boo-christmas-grotto/
LOCATION:Lupton House\, Brixham Road\, Churston Ferrers\, TQ5 0LD
ATTACH;FMTTYPE=image/jpeg:https://discoverlupton.com/wp-content/uploads/2024/09/Red-Modern-Merry-Christmas-Poster-1-scaled.jpg
END:VEVENT
BEGIN:VEVENT
DTSTART;TZID=Europe/London:20241130T100000
DTEND;TZID=Europe/London:20241130T160000
DTSTAMP:20260424T182713
CREATED:20240515T131013Z
LAST-MODIFIED:20241029T104954Z
UID:2616-1732960800-1732982400@discoverlupton.com
SUMMARY:Lupton Christmas Craft Fayre
DESCRIPTION:Exciting news!!  Due to popular demand\, our annual Christmas fayre at Lupton House is now over 2 weekends! Each weekend will have different stalls\, so more shopping opportunities for those Christmas gifts. \nChristmas always starts with Lupton so now it’s even bigger and better! We’ll see you there for 2 fantastically festive weekends. \n 
URL:https://discoverlupton.com/event/lupton-christmas-craft-fayre-2/
LOCATION:Lupton House\, Brixham Road\, Churston Ferrers\, TQ5 0LD
ATTACH;FMTTYPE=image/png:https://discoverlupton.com/wp-content/uploads/2024/05/Christmas-Fayre-Posters-.png
END:VEVENT
BEGIN:VEVENT
DTSTART;TZID=Europe/London:20241123T100000
DTEND;TZID=Europe/London:20241123T160000
DTSTAMP:20260424T182713
CREATED:20240515T125609Z
LAST-MODIFIED:20241029T105419Z
UID:2613-1732356000-1732377600@discoverlupton.com
SUMMARY:Lupton Christmas Craft Fayre
DESCRIPTION:Exciting news!!  Due to popular demand\, our annual Christmas fayre at Lupton House is now over 2 weekends! Each weekend will have different stalls\, so more shopping opportunities for those Christmas gifts. \nChristmas always starts with Lupton so now it’s even bigger and better! We’ll see you there for 2 fantastically festive weekends. \n 
URL:https://discoverlupton.com/event/lupton-christmas-craft-fayre/
LOCATION:Lupton House\, Brixham Road\, Churston Ferrers\, TQ5 0LD
ATTACH;FMTTYPE=image/png:https://discoverlupton.com/wp-content/uploads/2024/05/Christmas-Fayre-Posters-.png
END:VEVENT
BEGIN:VEVENT
DTSTART;TZID=Europe/London:20241012T103000
DTEND;TZID=Europe/London:20241012T170000
DTSTAMP:20260424T182713
CREATED:20240827T124214Z
LAST-MODIFIED:20240827T130412Z
UID:2665-1728729000-1728752400@discoverlupton.com
SUMMARY:Introduction to Crystal and Energy Healing Workshop
DESCRIPTION:Join us for a wonderful day of Crystals and using them in your healing with Sandra Pepper MVHF FSEM \nSuitable for those with healing experience \nLimited spaces available \nPlease bring with you: pen & notepad\, a packed lunch and a cushion to sit on as some work is on the floor
URL:https://discoverlupton.com/event/introduction-to-crystal-and-energy-healing-workshop/
LOCATION:Lupton House\, Brixham Road\, Churston Ferrers\, TQ5 0LD
ATTACH;FMTTYPE=image/png:https://discoverlupton.com/wp-content/uploads/2024/08/Lupton-Crystal-Workshop-Poster.png
END:VEVENT
BEGIN:VEVENT
DTSTART;TZID=Europe/London:20241012T100000
DTEND;TZID=Europe/London:20241012T100000
DTSTAMP:20260424T182713
CREATED:20240912T132311Z
LAST-MODIFIED:20240912T132311Z
UID:2713-1728727200-1728727200@discoverlupton.com
SUMMARY:The Big Bay Bake Event
DESCRIPTION:Come along to the Orchard Forest School for their Big Bay Bake event on Saturday 12th October – 10am – 2pm \nHarvest apples in the orchards\, try apple pressing and enjoy tasty treats and refreshments from our stall \nEntrance fee is £6 per family – PLEASE BRING CASH ON THE DAY \nNo need to book just turn up \nYou will need to bring: A bag for your apples\, A mug if you’d like a hot chocolate\, change for homemade goodies \nWear weather appropriate clothing as we will continue even if it rains!
URL:https://discoverlupton.com/event/the-big-bay-bake-event/
LOCATION:Lupton House\, Brixham Road\, Churston Ferrers\, TQ5 0LD
ATTACH;FMTTYPE=image/png:https://discoverlupton.com/wp-content/uploads/2024/09/big-bay-bake-24-1.png
END:VEVENT
BEGIN:VEVENT
DTSTART;TZID=Europe/London:20240926T163000
DTEND;TZID=Europe/London:20240928T160000
DTSTAMP:20260424T182713
CREATED:20240529T113152Z
LAST-MODIFIED:20240529T113152Z
UID:2620-1727368200-1727539200@discoverlupton.com
SUMMARY:Tibetan Monks from Tashi Lhunpo Monastery
DESCRIPTION:We are very pleased to welcome back the Tibetan Monks from Tashi Lhunpo Monastery for a Peace Mandala and Tibetan Culture weekend\, last seen at Lupton in 2019. \nThe programme is as follows: \nThursday 26th September: Set up for Peace Mandala   –   4pm Dedication Ceremony \nFriday 27th September:  Peace Mandala start am & morning prayers (9am Morning prayers   & 10am-12.30 Talk/Intro to the Peace Mandala \nSaturday 28th September:  Peace Mandala continues all day   10am – 4pm \n10am – 11.30am – Introduction to the Vajra (Different sorts of Vajras\, background\, symbolism\, Vajra in the Peace Mandala\, draw the Vajra design using chagpur/sand – (MAINLY ADULT) \n1pm – 2.30pm  – Hands on workshop – Prayer flag printing\, butter sculpture\, dukar-wheel making\, mandala making\, Tibetan language – SUITABLE FOR ALL AGES – TRY EACH OF THE FIVE ACTIVITIES \n3pm – 4pm  – Leading in to Destruction of the Mandala & procession \n  \nTICKETS ARE VERY LIMITED AND ON A FIRST COME BASIS SO BOOKING IS ESSENTAL.
URL:https://discoverlupton.com/event/tibetan-monks-from-tashi-lhunpo-monastery/
LOCATION:Lupton House\, Brixham Road\, Churston Ferrers\, TQ5 0LD
ATTACH;FMTTYPE=image/png:https://discoverlupton.com/wp-content/uploads/2024/05/tibetan-monk-poster-.png
END:VEVENT
BEGIN:VEVENT
DTSTART;TZID=Europe/London:20240915T100000
DTEND;TZID=Europe/London:20240915T160000
DTSTAMP:20260424T182713
CREATED:20240717T114150Z
LAST-MODIFIED:20240717T114150Z
UID:2639-1726394400-1726416000@discoverlupton.com
SUMMARY:Bonsai in the Park
DESCRIPTION:Come along to the Bonsai in the Park exhibition at Lupton House \nAward winning Bonsai and 5 West Country society displays \nSunday 15th September 2024  10am to 4pm \nAll day refreshments with free parking – Entrance £5 (children free)
URL:https://discoverlupton.com/event/bonsai-in-the-park/
LOCATION:Lupton House\, Brixham Road\, Churston Ferrers\, TQ5 0LD
ATTACH;FMTTYPE=image/jpeg:https://discoverlupton.com/wp-content/uploads/2024/07/Bonsai-poster.jpg
END:VEVENT
BEGIN:VEVENT
DTSTART;TZID=Europe/London:20240908T110000
DTEND;TZID=Europe/London:20240908T160000
DTSTAMP:20260424T182713
CREATED:20240329T155552Z
LAST-MODIFIED:20240715T131017Z
UID:2577-1725793200-1725811200@discoverlupton.com
SUMMARY:Brixham Classic Car Show
DESCRIPTION:Join us for the Brixham classic car show at Lupton House on 8th September from 11am – 4pm.  Booking online now open for £5 and free parking. \nCome and see children’s TV and film characters\, American and British classic cars\, bike display and meet Reggie the dinosaur! \nThere will be a beer tent\, entertainment\, market stalls\, food stalls\, tea & coffee\, ice creams and live music. \nA great family fun  day out! See you there.
URL:https://discoverlupton.com/event/classic-car-show/
LOCATION:Lupton House\, Brixham Road\, Churston Ferrers\, TQ5 0LD
ATTACH;FMTTYPE=application/pdf:https://discoverlupton.com/wp-content/uploads/2024/03/Classic-Car-Show-2024.pdf
END:VEVENT
BEGIN:VEVENT
DTSTART;TZID=Europe/London:20240813T100000
DTEND;TZID=Europe/London:20240816T150000
DTSTAMP:20260424T182713
CREATED:20240717T121337Z
LAST-MODIFIED:20240717T121337Z
UID:2642-1723543200-1723820400@discoverlupton.com
SUMMARY:Wildlife Photographic Exhibition
DESCRIPTION:Join us for an exciting Wildlife Photographic Exhibition with husband and wife photographers\, Brian and Sheree Sedgbeer from Dartmoor. \nShare their deep love and knowledge of wildlife in these beautiful captured photographs that will be on display from Tuesday 13th August to Friday 16th August\, from 10am to 3pm \nEntrance is free with free parking onsite. \n 
URL:https://discoverlupton.com/event/wildlife-photographic-exhibition/
LOCATION:Lupton House\, Brixham Road\, Churston Ferrers\, TQ5 0LD
ATTACH;FMTTYPE=image/jpeg:https://discoverlupton.com/wp-content/uploads/2024/07/Wildlife-photographic-Exhibition-13-16-August-2024.jpg
END:VEVENT
BEGIN:VEVENT
DTSTART;TZID=Europe/London:20240811T190000
DTEND;TZID=Europe/London:20240811T220000
DTSTAMP:20260424T182713
CREATED:20240322T133057Z
LAST-MODIFIED:20240801T101324Z
UID:2566-1723402800-1723413600@discoverlupton.com
SUMMARY:The Big Yellow Tambourine Man Band - Tribute to Bob Dylan & Joni Mitchell
DESCRIPTION:Join the Big Yellow Tambourine Man Band on a radical tour of some of the most iconic songs from the two greatest singer-songwriters of modern times\, Joni Mitchell and Bob Dylan. \nBe transported by faithful renditions of tracks from throughout the duo’s celebrated careers\, including Grammy award-winning songs from peerless albums such as Blue\, Court & Spark\, Freewheelin’\, Blonde on Blonde and more. \nThe show is the brainchild of Devon-based singer-songwriter Isabelle Nutton and Cape Town guitarist and singer Bob Thomson\, conceived after discovering a shared fascination with Mitchell’s and Dylan’s imagery\, poetry and artistry. There followed a dive into- and a subsequent obsession with- two parallel worlds of genius: phrasings\, tunings and arrangements; dulcimers\, Wurlitzers and harmonicas; histories\, fantasies and rivalries; to create a show that pays utmost respect to the craft of their musical idols. \nBe totally swept along on the trip by loving recreations of the pair’s most recognisable finery\, with stops in Greenwich Village\, Laurel Canyon\, Isle of Wight and beyond. This talented and enigmatic freewheelin’ five-piece with an eye for detail will make you feel like you’re really there\, man… \n  \nA few kind words: \n“A terrific evening celebrating two great artists.” – Steve Brown\, Phonic FM \n“Really superb- taken right back to the ‘60s and ‘70s. Absolutely brilliant!” – Ruth and Bert\, Dawlish \n“Absolutely wonderful. The most magical evening since seeing Leonard Cohen.” – Mary\, Exeter \n“These excellent musicians wove a spell of sufficient potency to transport me gleefully back to a golden age. Nice one\, guys. You honour our dreams.” – Noel\, Exeter \n  \nParking on-site. \nLimited tickets only £15 each \nTickets are also available in the office at Lupton House\, cash preferred.
URL:https://discoverlupton.com/event/the-big-yellow-tambourine-man-band-tribute-to-bob-dylan-joni-mitchell/
LOCATION:Lupton House\, Brixham Road\, Churston Ferrers\, TQ5 0LD
ATTACH;FMTTYPE=image/png:https://discoverlupton.com/wp-content/uploads/2024/03/BOB-DYLAN-POSTER.png
END:VEVENT
BEGIN:VEVENT
DTSTART;TZID=Europe/London:20240809T190000
DTEND;TZID=Europe/London:20240809T210000
DTSTAMP:20260424T182713
CREATED:20240308T022157Z
LAST-MODIFIED:20240731T145747Z
UID:2161-1723230000-1723237200@discoverlupton.com
SUMMARY:Be Here Now - Oasis Tribute  **NOW SOLD OUT**
DESCRIPTION:***NOW SOLD OUT*** \n  \nA tribute to Oasis\, Friday 9th August from 7pm ’til 9pm\, Gates open at 6pm. \nSet up on the beautiful Italianate Garden \nFood and drink available to purchase. \nParking on-site. \nLimited tickets only £15 each. \nBook tickets on Eventbrite
URL:https://discoverlupton.com/event/be-here-now-oasis-tribute/
LOCATION:Lupton House\, Brixham Road\, Churston Ferrers\, TQ5 0LD
CATEGORIES:One-off Events
ATTACH;FMTTYPE=image/png:https://discoverlupton.com/wp-content/uploads/2024/03/6f68211addea1c2b26f3a063d123c805-1.png
END:VEVENT
BEGIN:VEVENT
DTSTART;TZID=Europe/London:20240807T130000
DTEND;TZID=Europe/London:20240807T143000
DTSTAMP:20260424T182713
CREATED:20240617T134131Z
LAST-MODIFIED:20240617T134131Z
UID:2632-1723035600-1723041000@discoverlupton.com
SUMMARY:Fairy Garden Workshop
DESCRIPTION:Come along to our Fairy Garden Workshop to take home. \nSuitable for children too\, all materials provided. Booking essential as limited spaces.
URL:https://discoverlupton.com/event/fairy-garden-workshop/
LOCATION:Lupton House\, Brixham Road\, Churston Ferrers\, TQ5 0LD
ATTACH;FMTTYPE=image/png:https://discoverlupton.com/wp-content/uploads/2024/06/fairy-garden-poster.png
END:VEVENT
BEGIN:VEVENT
DTSTART;TZID=Europe/London:20240713T190000
DTEND;TZID=Europe/London:20240713T213000
DTSTAMP:20260424T182713
CREATED:20240308T014144Z
LAST-MODIFIED:20240628T105705Z
UID:2145-1720897200-1720906200@discoverlupton.com
SUMMARY:Classical to Swing!
DESCRIPTION:Saturday 13th July from 7pm ’til 9:30pm \nFeaturing: Steve West “King of Swing” and Tim Pitman\, Tenor \n\nSet up on the beautiful Italianate Garden.\nFood and drink available to purchase.\nFree parking on-site.\nLimited tickets\, only £15 each.\n\nClick here to book on Eventbrite \nTickets are also available in the office at Lupton House\, cash preferred. \n 
URL:https://discoverlupton.com/event/classical-to-swing/
LOCATION:Lupton House\, Brixham Road\, Churston Ferrers\, TQ5 0LD
CATEGORIES:One-off Events
ATTACH;FMTTYPE=image/png:https://discoverlupton.com/wp-content/uploads/2024/03/9184eee54337c3f8ff6025471dba3765.png
END:VEVENT
BEGIN:VEVENT
DTSTART;TZID=Europe/London:20240703T130000
DTEND;TZID=Europe/London:20240703T143000
DTSTAMP:20260424T182713
CREATED:20240617T133557Z
LAST-MODIFIED:20240617T133557Z
UID:2629-1720011600-1720017000@discoverlupton.com
SUMMARY:Terrarium Workshop
DESCRIPTION:Come along and make a Terrarium to take home. \nAll materials included\, booking is essential as limited spaces.
URL:https://discoverlupton.com/event/terrarium-workshop/
LOCATION:Lupton House\, Brixham Road\, Churston Ferrers\, TQ5 0LD
ATTACH;FMTTYPE=image/png:https://discoverlupton.com/wp-content/uploads/2024/06/Terrarium-poster.png
END:VEVENT
BEGIN:VEVENT
DTSTART;TZID=Europe/London:20240623T100000
DTEND;TZID=Europe/London:20240623T160000
DTSTAMP:20260424T182713
CREATED:20240301T180057Z
LAST-MODIFIED:20240301T182929Z
UID:1844-1719136800-1719158400@discoverlupton.com
SUMMARY:Caribbean Family Fun Day
DESCRIPTION:Rum & Cocktail Bar\, Dancing\, Steel Pan Band and Live Music \nCaribbean Street Food\, Children’s Entertainment \nGift Stalls plus much more
URL:https://discoverlupton.com/event/caribbean-family-fun-day/
CATEGORIES:One-off Events
ATTACH;FMTTYPE=image/webp:https://discoverlupton.com/wp-content/uploads/2024/03/CARIBBEAN_FAMILY_FUN_DAY-7926263.webp
END:VEVENT
BEGIN:VEVENT
DTSTART;VALUE=DATE:20240622
DTEND;VALUE=DATE:20240623
DTSTAMP:20260424T182713
CREATED:20240301T175800Z
LAST-MODIFIED:20240308T021318Z
UID:1841-1719014400-1719100799@discoverlupton.com
SUMMARY:Rum & Reggae Festival Torbay
DESCRIPTION:The best bands and sounds from leading UK artists of Reggae / Ska / Dub. \n\nJunior Morgan and the Run Come Down band\nRevelation Roots\nDem Boyz party band\nNatty Campbell & DJ Fossix\nRaz Lee\nSamantics\nRootsoup & MC Tenja\nPlus our special guest host: Glyn Wilcox\n\nWhat’s on? \n\nVIP Exclusive area\nCaribbean Food\nTrinkets & Fancies\nCopper Moon Rum bar\nFestival Facepainting & Braiding\n\nBook tickets on Eventbrite
URL:https://discoverlupton.com/event/rum-reggae-festival-torbay/
CATEGORIES:One-off Events
ATTACH;FMTTYPE=image/jpeg:https://discoverlupton.com/wp-content/uploads/2024/03/31b4cfe78a9c46db6d05423b0c3a5274-scaled.jpg
END:VEVENT
BEGIN:VEVENT
DTSTART;TZID=Europe/London:20240524T190000
DTEND;TZID=Europe/London:20240524T190000
DTSTAMP:20260424T182713
CREATED:20240403T144645Z
LAST-MODIFIED:20240403T144645Z
UID:2589-1716577200-1716577200@discoverlupton.com
SUMMARY:Special Weekend in May
DESCRIPTION:Join us for a Special Weekend in May with Nick Humphries and Spirit Guide Doctor John \nFriday 24th May @ 7pm – Intimate talk and demonstration  of healing \nSaturday 25th May @ 10am – 3pm – Workshop with Nick and spirit guide Dr John \nSunday 26th May – Private Healing sessions  – NOW FULLY BOOKED \nHugely popular when Nick was last here\, booking is essential as spaces are limited and fill up quicky.
URL:https://discoverlupton.com/event/special-weekend-in-may/
LOCATION:Lupton House\, Brixham Road\, Churston Ferrers\, TQ5 0LD
ATTACH;FMTTYPE=image/png:https://discoverlupton.com/wp-content/uploads/2024/04/Special-Weekend-in-May.png
END:VEVENT
BEGIN:VEVENT
DTSTART;TZID=Europe/London:20240420T100000
DTEND;TZID=Europe/London:20240420T140000
DTSTAMP:20260424T182713
CREATED:20240301T181404Z
LAST-MODIFIED:20240301T183038Z
UID:1855-1713607200-1713621600@discoverlupton.com
SUMMARY:Orchard Forest School 5th Birthday
DESCRIPTION:Open Day \nCome and see what we’re all about and join in with the celebrations. \n£1PP entry – cash on the gate (no need to book) \nUnder ones go free with a donation bucket on entry \nCake a refreshment stall\, lots of fun for the kids\, bring loose change!
URL:https://discoverlupton.com/event/orchard-forest-school-5th-birthday/
LOCATION:Lupton House\, Brixham Road\, Churston Ferrers\, TQ5 0LD
CATEGORIES:Orchard Forest School Events
ATTACH;FMTTYPE=image/webp:https://discoverlupton.com/wp-content/uploads/2024/03/OFS_5th_birthday-7989518.webp
END:VEVENT
BEGIN:VEVENT
DTSTART;VALUE=DATE:20240408
DTEND;VALUE=DATE:20240409
DTSTAMP:20260424T182713
CREATED:20240310T183316Z
LAST-MODIFIED:20240310T183316Z
UID:2450-1712534400-1712620799@discoverlupton.com
SUMMARY:Easter Eggs-travaganza
DESCRIPTION:at Orchard Forest School \nHop over and join for a fun packed egg-citing Easter session on: \n\nThursday 4th April 10am-12noon and 1pm-3pm\nMonday 8th April 10am-12noon and 1pm-3pm\n\nCome and make some egg-ceptional Easter crafts from nature \nCreate some egg-cellent Easter cakes in the mud kitchen or get some eggs-ercise by doing the Easter Scavenger trail around the orchard! \nCost: £18 per child to include one adult\, £6 per additional child/adult. Booking esential. \nEach child will receive an easter egg on completing the Easter Scavenger Trail!
URL:https://discoverlupton.com/event/easter-eggs-travaganza-2/
LOCATION:Lupton House\, Brixham Road\, Churston Ferrers\, TQ5 0LD
CATEGORIES:Orchard Forest School Events,Seasonal Events
ATTACH;FMTTYPE=image/webp:https://discoverlupton.com/wp-content/uploads/2024/03/easter_OFS_flyer-_24-7989506.webp
END:VEVENT
BEGIN:VEVENT
DTSTART;VALUE=DATE:20240404
DTEND;VALUE=DATE:20240405
DTSTAMP:20260424T182713
CREATED:20240310T183359Z
LAST-MODIFIED:20240310T183359Z
UID:2452-1712188800-1712275199@discoverlupton.com
SUMMARY:Easter Eggs-travaganza
DESCRIPTION:at Orchard Forest School \nHop over and join for a fun packed egg-citing Easter session on: \n\nThursday 4th April 10am-12noon and 1pm-3pm\nMonday 8th April 10am-12noon and 1pm-3pm\n\nCome and make some egg-ceptional Easter crafts from nature \nCreate some egg-cellent Easter cakes in the mud kitchen or get some eggs-ercise by doing the Easter Scavenger trail around the orchard! \nCost: £18 per child to include one adult\, £6 per additional child/adult. Booking esential. \nEach child will receive an easter egg on completing the Easter Scavenger Trail!
URL:https://discoverlupton.com/event/easter-eggs-travaganza/
LOCATION:Lupton House\, Brixham Road\, Churston Ferrers\, TQ5 0LD
CATEGORIES:Orchard Forest School Events,Seasonal Events
ATTACH;FMTTYPE=image/webp:https://discoverlupton.com/wp-content/uploads/2024/03/easter_OFS_flyer-_24-7989506.webp
END:VEVENT
BEGIN:VEVENT
DTSTART;TZID=Europe/London:20240331T100000
DTEND;TZID=Europe/London:20240331T160000
DTSTAMP:20260424T182713
CREATED:20240301T175149Z
LAST-MODIFIED:20240301T183135Z
UID:1838-1711879200-1711900800@discoverlupton.com
SUMMARY:Lupton House Bike & Trike Show
DESCRIPTION:It’s back! Easter Sunday 31st March 2024! \nSupporting our veterans. 100% goes to our Armed Forces Veterans. UK Charity Number: 1147967 \nLive Music\, Bike entry at £4 a bike (show classes charged separately) – fun for all the family. \nCar parking available \n 
URL:https://discoverlupton.com/event/lupton-house-bike-trike-show/
LOCATION:Lupton House\, Brixham Road\, Churston Ferrers\, TQ5 0LD
CATEGORIES:One-off Events
ATTACH;FMTTYPE=image/webp:https://discoverlupton.com/wp-content/uploads/2024/03/bike_show_24-7547655.webp
END:VEVENT
END:VCALENDAR